BEGIN:VCALENDAR
VERSION:2.0
PRODID:-//The National Theatre - ECPv6.15.12.2//NONSGML v1.0//EN
CALSCALE:GREGORIAN
METHOD:PUBLISH
X-ORIGINAL-URL:https://nationaltheatre.org.au
X-WR-CALDESC:Events for The National Theatre
REFRESH-INTERVAL;VALUE=DURATION:PT1H
X-Robots-Tag:noindex
X-PUBLISHED-TTL:PT1H
BEGIN:VTIMEZONE
TZID:Australia/Melbourne
BEGIN:STANDARD
TZOFFSETFROM:+1100
TZOFFSETTO:+1000
TZNAME:AEST
DTSTART:20240406T160000
END:STANDARD
BEGIN:DAYLIGHT
TZOFFSETFROM:+1000
TZOFFSETTO:+1100
TZNAME:AEDT
DTSTART:20241005T160000
END:DAYLIGHT
BEGIN:STANDARD
TZOFFSETFROM:+1100
TZOFFSETTO:+1000
TZNAME:AEST
DTSTART:20250405T160000
END:STANDARD
BEGIN:DAYLIGHT
TZOFFSETFROM:+1000
TZOFFSETTO:+1100
TZNAME:AEDT
DTSTART:20251004T160000
END:DAYLIGHT
BEGIN:STANDARD
TZOFFSETFROM:+1100
TZOFFSETTO:+1000
TZNAME:AEST
DTSTART:20260404T160000
END:STANDARD
BEGIN:DAYLIGHT
TZOFFSETFROM:+1000
TZOFFSETTO:+1100
TZNAME:AEDT
DTSTART:20261003T160000
END:DAYLIGHT
END:VTIMEZONE
BEGIN:VEVENT
DTSTART;VALUE=DATE:20250816
DTEND;VALUE=DATE:20250817
DTSTAMP:20260423T082502
CREATED:20240802T004852Z
LAST-MODIFIED:20250810T234348Z
UID:10002213-1755302400-1755388799@nationaltheatre.org.au
SUMMARY:Sheng Wang
DESCRIPTION:Sheng Wang Live \nSheng Wang is a comedian\, actor and writer originally from Houston\, TX. \nHis first Netflix special\, Sweet & Juicy\, released in September 2022 and was produced and directed by Ali Wong. He was a featured stand-up on HBO’s “2 Dope Queens” special and also wrote for the ABC show “Fresh Off the Boat.” \nSheng resides in Los Angeles and in his time off\, he enjoys exploring botanical gardens and discovering new ways to snack. \n		\n\n		\n\n	\n	\n	\n		\n\n			\n			\n			\n	\n	\n\n		\n\n		\n\n		\n			\n\n\n	\n				\n			\n			\nWHENSaturday 16 August @ 4:30pm New Show on SaleSaturday 16 August @ 7:00pm ALLOCATION EXHAUSTED \nDURATION90 Minutes No Interval\n \nWHERE\nThe National Theatre \n20 Carlisle St\, St. Kilda\, VIC 3182\n \n \n \nMore information Your Visit \n		\n					\n\n	\n\n	\n				\n			\n			\n\n    Book Now through Ticketmaster\n  \n\n\n    Accessible Ticketing\n  \n\n\n    Accessibility information\n  \n\nTransaction fees apply. Please choose tickets and prices carefully as there are no refunds (except as required by law) and no exchanges. By purchasing tickets to this event you agree to the Terms and Conditions of The National Theatre Melbourne.
URL:https://nationaltheatre.org.au/whatson/sheng-wang/
LOCATION:National Theatre Melbourne\, 20 Carlisle St (Cnr Barkly St)\, St Kilda\, VIC\, 3182\, Australia
CATEGORIES:Comedy,Whats On
END:VEVENT
END:VCALENDAR