BEGIN:VCALENDAR
VERSION:2.0
PRODID:-//The National Theatre - ECPv6.15.12.2//NONSGML v1.0//EN
CALSCALE:GREGORIAN
METHOD:PUBLISH
X-WR-CALNAME:The National Theatre
X-ORIGINAL-URL:https://nationaltheatre.org.au
X-WR-CALDESC:Events for The National Theatre
REFRESH-INTERVAL;VALUE=DURATION:PT1H
X-Robots-Tag:noindex
X-PUBLISHED-TTL:PT1H
BEGIN:VTIMEZONE
TZID:Australia/Melbourne
BEGIN:STANDARD
TZOFFSETFROM:+1100
TZOFFSETTO:+1000
TZNAME:AEST
DTSTART:20240406T160000
END:STANDARD
BEGIN:DAYLIGHT
TZOFFSETFROM:+1000
TZOFFSETTO:+1100
TZNAME:AEDT
DTSTART:20241005T160000
END:DAYLIGHT
BEGIN:STANDARD
TZOFFSETFROM:+1100
TZOFFSETTO:+1000
TZNAME:AEST
DTSTART:20250405T160000
END:STANDARD
BEGIN:DAYLIGHT
TZOFFSETFROM:+1000
TZOFFSETTO:+1100
TZNAME:AEDT
DTSTART:20251004T160000
END:DAYLIGHT
BEGIN:STANDARD
TZOFFSETFROM:+1100
TZOFFSETTO:+1000
TZNAME:AEST
DTSTART:20260404T160000
END:STANDARD
BEGIN:DAYLIGHT
TZOFFSETFROM:+1000
TZOFFSETTO:+1100
TZNAME:AEDT
DTSTART:20261003T160000
END:DAYLIGHT
END:VTIMEZONE
BEGIN:VEVENT
DTSTART;TZID=Australia/Melbourne:20251214T140000
DTEND;TZID=Australia/Melbourne:20251214T170000
DTSTAMP:20260421T030755
CREATED:20251013T021032Z
LAST-MODIFIED:20251013T050958Z
UID:10002244-1765720800-1765731600@nationaltheatre.org.au
SUMMARY:Gin and Jazz
DESCRIPTION:Travelling While Standing Gin invites you to a fabulous afternoon of Gin and Jazz. Featuring Hot 5 Jazz and hosted on the Mezzanine Bar of the National Theatre\, this will be the perfect way to spend your Sunday afternoon! \n	\n		\n\n			\n			\n			\n	\n	\n\n		\n\n		\n\n		\n			\n\n\n	\n				\n			\n			\nWHENSunday 14 December 2-5pm \nWHERE\nThe National Theatre \n20 Carlisle St\, St. Kilda\, VIC 3182\nMore information Your Visit \n \nAccessibilityPlease note\, the Mezzanine Bar is not Wheelchair Accesible\n		\n					\n\n	\n\n	\n				\n			\n			\nTICKETSAll Tickets $30 \n\n    Book Now\n  \n\nTransaction fees apply. Please choose tickets and prices carefully as there are no refunds (except as required by law) and no exchanges. By purchasing tickets to this event you agree to the Terms and Conditions of The National Theatre Melbourne. \n 
URL:https://nationaltheatre.org.au/whatson/gin-and-jazz/
LOCATION:National Theatre Melbourne\, 20 Carlisle St (Cnr Barkly St)\, St Kilda\, VIC\, 3182\, Australia
CATEGORIES:Whats On
ATTACH;FMTTYPE=image/png:https://nationaltheatre.org.au/wp-content/uploads/2025/10/TWSS-GinJazz_1080px-copy-2.png
END:VEVENT
END:VCALENDAR