BEGIN:VCALENDAR
VERSION:2.0
PRODID:-//The National Theatre - ECPv6.15.12.2//NONSGML v1.0//EN
CALSCALE:GREGORIAN
METHOD:PUBLISH
X-WR-CALNAME:The National Theatre
X-ORIGINAL-URL:https://nationaltheatre.org.au
X-WR-CALDESC:Events for The National Theatre
REFRESH-INTERVAL;VALUE=DURATION:PT1H
X-Robots-Tag:noindex
X-PUBLISHED-TTL:PT1H
BEGIN:VTIMEZONE
TZID:Australia/Melbourne
BEGIN:STANDARD
TZOFFSETFROM:+1100
TZOFFSETTO:+1000
TZNAME:AEST
DTSTART:20240406T160000
END:STANDARD
BEGIN:DAYLIGHT
TZOFFSETFROM:+1000
TZOFFSETTO:+1100
TZNAME:AEDT
DTSTART:20241005T160000
END:DAYLIGHT
BEGIN:STANDARD
TZOFFSETFROM:+1100
TZOFFSETTO:+1000
TZNAME:AEST
DTSTART:20250405T160000
END:STANDARD
BEGIN:DAYLIGHT
TZOFFSETFROM:+1000
TZOFFSETTO:+1100
TZNAME:AEDT
DTSTART:20251004T160000
END:DAYLIGHT
BEGIN:STANDARD
TZOFFSETFROM:+1100
TZOFFSETTO:+1000
TZNAME:AEST
DTSTART:20260404T160000
END:STANDARD
BEGIN:DAYLIGHT
TZOFFSETFROM:+1000
TZOFFSETTO:+1100
TZNAME:AEDT
DTSTART:20261003T160000
END:DAYLIGHT
END:VTIMEZONE
BEGIN:VEVENT
DTSTART;TZID=Australia/Melbourne:20251213T160000
DTEND;TZID=Australia/Melbourne:20251213T183000
DTSTAMP:20260421T045239
CREATED:20251105T233533Z
LAST-MODIFIED:20251208T052127Z
UID:10002251-1765641600-1765650600@nationaltheatre.org.au
SUMMARY:Legacy
DESCRIPTION:We are thrilled to present our 2025 end of year concert – LEGACY. \nA powerful celebration of the legendary icons who have shaped the worlds of music and cinema.  \nONE STAGE. COUNTLESS LEGENDS. \n	\n		\n\n			\n			\n			\n	\n	\n\n		\n\n		\n\n		\n			\n\n\n	\n				\n			\n			\nWHENSaturday 13 of December @ 4:00pm \nDURATION2 Hours and 30 minutes \nWHERE\nThe National Theatre \n20 Carlisle St\, St. Kilda\, VIC 3182\nMore information Your Visit \n		\n					\n\n	\n\n	\n				\n			\n			\nTICKETS \nPremium $50A Reserve $45 \n\n    Book Now\n  \n\n\n    Your Visit and Acessibility Information\n  \n\nTransaction fees apply. Please choose tickets and prices carefully as there are no refunds (except as required by law) and no exchanges. By purchasing tickets to this event you agree to the Terms and Conditions of The National Theatre Melbourne. \n 
URL:https://nationaltheatre.org.au/whatson/legacy/
LOCATION:National Theatre Melbourne\, 20 Carlisle St (Cnr Barkly St)\, St Kilda\, VIC\, 3182\, Australia
CATEGORIES:Whats On
ATTACH;FMTTYPE=image/jpeg:https://nationaltheatre.org.au/wp-content/uploads/2025/10/IMG_0366.jpg
END:VEVENT
END:VCALENDAR