BEGIN:VCALENDAR
VERSION:2.0
PRODID:-//The National Theatre - ECPv6.15.12.2//NONSGML v1.0//EN
CALSCALE:GREGORIAN
METHOD:PUBLISH
X-ORIGINAL-URL:https://nationaltheatre.org.au
X-WR-CALDESC:Events for The National Theatre
REFRESH-INTERVAL;VALUE=DURATION:PT1H
X-Robots-Tag:noindex
X-PUBLISHED-TTL:PT1H
BEGIN:VTIMEZONE
TZID:Australia/Melbourne
BEGIN:STANDARD
TZOFFSETFROM:+1100
TZOFFSETTO:+1000
TZNAME:AEST
DTSTART:20250405T160000
END:STANDARD
BEGIN:DAYLIGHT
TZOFFSETFROM:+1000
TZOFFSETTO:+1100
TZNAME:AEDT
DTSTART:20251004T160000
END:DAYLIGHT
BEGIN:STANDARD
TZOFFSETFROM:+1100
TZOFFSETTO:+1000
TZNAME:AEST
DTSTART:20260404T160000
END:STANDARD
BEGIN:DAYLIGHT
TZOFFSETFROM:+1000
TZOFFSETTO:+1100
TZNAME:AEDT
DTSTART:20261003T160000
END:DAYLIGHT
BEGIN:STANDARD
TZOFFSETFROM:+1100
TZOFFSETTO:+1000
TZNAME:AEST
DTSTART:20270403T160000
END:STANDARD
BEGIN:DAYLIGHT
TZOFFSETFROM:+1000
TZOFFSETTO:+1100
TZNAME:AEDT
DTSTART:20271002T160000
END:DAYLIGHT
END:VTIMEZONE
BEGIN:VEVENT
DTSTART;TZID=Australia/Melbourne:20260327T190000
DTEND;TZID=Australia/Melbourne:20260327T230000
DTSTAMP:20260422T183342
CREATED:20251210T223340Z
LAST-MODIFIED:20260320T023233Z
UID:10002268-1774638000-1774652400@nationaltheatre.org.au
SUMMARY:Pop Culture Parenting - The Phenomenally Beautiful\, National(ish) Tour
DESCRIPTION:After a sold-out Melbourne show last year\, we’re returning to the stage with a brand-new live experience celebrating the beautiful chaos of raising kids. \nJoin Billy and Dr Nick for a night of learning\, laughter\, and unapologetic tears. \nWhat to expect:★ ⁠ ⁠beautiful banter★ ⁠beautiful acting★ ⁠ ⁠beautiful practical parenting strategies★ ⁠beautiful honesty about the messy middle of parenting★  ⁠and a beautifully warm community who truly gets it \nAnd this year\, we’re making it even more special. There’s a surprise immersive element before the show\, something fun\, cinematic\, and wonderfully PCP that will set the tone for an unforgettable night out. \n(Bonus points if you come dressed up.) \nAnd like last year join Billy and Nick after the show for a chance to connect and celebrate this crazy beautiful journey we’re all on. \n“The best night out I’ve had in ages! It was hilarious\, warm\, and honestly… just perfect” \n	\n		\n\n			\n			\n			\n	\n	\n\n		\n\n		\n\n		\n			\n\n\n	\n				\n			\n			\nWHENFriday 27 MarchDoors @ 7:00pmShow @ 8:00pm-9:30pmMingling 9:30pm-11:00pm \nWHEREThe National Theatre \n20 Carlisle St\, St. Kilda\, VIC 3182\nMore information Your Visit \n		\n					\n\n	\n\n	\n				\n			\n			\nTICKETS \nAll Tickets $72 + BF \n\n    Book Now\n  \n\n\n    Accessibility Information\n  \n\nTransaction fees apply. Please choose tickets and prices carefully as there are no refunds (except as required by law) and no exchanges. By purchasing tickets to this event you agree to the Terms and Conditions of The National Theatre Melbourne. \n 
URL:https://nationaltheatre.org.au/whatson/pop-culture-parenting/
LOCATION:National Theatre Melbourne\, 20 Carlisle St (Cnr Barkly St)\, St Kilda\, VIC\, 3182\, Australia
CATEGORIES:Whats On
ATTACH;FMTTYPE=image/jpeg:https://nationaltheatre.org.au/wp-content/uploads/2025/12/94148116-7EB9-4601-B7B6-4DBFE58A76CB-2-scaled.jpeg
END:VEVENT
END:VCALENDAR