BEGIN:VCALENDAR
VERSION:2.0
PRODID:-//The National Theatre - ECPv6.15.12.2//NONSGML v1.0//EN
CALSCALE:GREGORIAN
METHOD:PUBLISH
X-ORIGINAL-URL:https://nationaltheatre.org.au
X-WR-CALDESC:Events for The National Theatre
REFRESH-INTERVAL;VALUE=DURATION:PT1H
X-Robots-Tag:noindex
X-PUBLISHED-TTL:PT1H
BEGIN:VTIMEZONE
TZID:Australia/Melbourne
BEGIN:STANDARD
TZOFFSETFROM:+1100
TZOFFSETTO:+1000
TZNAME:AEST
DTSTART:20240406T160000
END:STANDARD
BEGIN:DAYLIGHT
TZOFFSETFROM:+1000
TZOFFSETTO:+1100
TZNAME:AEDT
DTSTART:20241005T160000
END:DAYLIGHT
BEGIN:STANDARD
TZOFFSETFROM:+1100
TZOFFSETTO:+1000
TZNAME:AEST
DTSTART:20250405T160000
END:STANDARD
BEGIN:DAYLIGHT
TZOFFSETFROM:+1000
TZOFFSETTO:+1100
TZNAME:AEDT
DTSTART:20251004T160000
END:DAYLIGHT
BEGIN:STANDARD
TZOFFSETFROM:+1100
TZOFFSETTO:+1000
TZNAME:AEST
DTSTART:20260404T160000
END:STANDARD
BEGIN:DAYLIGHT
TZOFFSETFROM:+1000
TZOFFSETTO:+1100
TZNAME:AEDT
DTSTART:20261003T160000
END:DAYLIGHT
END:VTIMEZONE
BEGIN:VEVENT
DTSTART;VALUE=DATE:20250801
DTEND;VALUE=DATE:20250802
DTSTAMP:20260422T193302
CREATED:20250602T013807Z
LAST-MODIFIED:20250731T091151Z
UID:10002233-1754006400-1754092799@nationaltheatre.org.au
SUMMARY:Stuck The Musical
DESCRIPTION:ALBERT PARK COLLEGE PRESENTS\n‘STUCK! THE MUSICAL’ \nIt’s Christmas Eve\, and a plane full of eager passengers are ready to take off from Manhattan to Melbourne\, but a missing pilot is holding everyone up from getting home for the holidays. Flight Attendant Jenny is trying her best to manage the chaos until her ex-boyfriend and adored pilot Kyle shows up to save the day and win her back… \n‘Stuck!’ takes audiences and passengers on a long\, long\, looooooong-haul adventure with dancing flight attendants\, unforgettable songs and high-flying moments. This is one flight you won’t want to miss! \nWritten and performed by students at Albert Park College\, ‘Stuck!’ is packed tighter than the overhead compartments with passengers and crew ready to share their stories. \nPack your bags and get your tickets ready because this chaotic Christmas flight is taking off! \n		\n\n		\n\n	\n	\n	\n		\n\n			\n			\n			\n	\n	\n\n		\n\n		\n\n		\n			\n\n\n	\n				\n			\n			\nWHENFriday August 1 @ 7pm \nDURATION90 Minutes no Interval \nWHERE\nThe National Theatre \n20 Carlisle St\, St. Kilda\, VIC 3182\n \n \n \nMore information Your Visit \n		\n					\n\n	\n\n	\n				\n			\n			\n\n    Book Now\n  \n\n\n    Accessibility information\n  \n\nTransaction fees apply. Please choose tickets and prices carefully as there are no refunds (except as required by law) and no exchanges. By purchasing tickets to this event you agree to the Terms and Conditions of The National Theatre Melbourne. \n  \n		\n					\n\n	\n\n 
URL:https://nationaltheatre.org.au/whatson/stuck-the-musical/
LOCATION:National Theatre Melbourne\, 20 Carlisle St (Cnr Barkly St)\, St Kilda\, VIC\, 3182\, Australia
CATEGORIES:Whats On
END:VEVENT
END:VCALENDAR